BEGIN:VCALENDAR
VERSION:2.0
PRODID:-//Glasbena šola Murska Sobota - ECPv6.15.20//NONSGML v1.0//EN
CALSCALE:GREGORIAN
METHOD:PUBLISH
X-WR-CALNAME:Glasbena šola Murska Sobota
X-ORIGINAL-URL:https://gsms.si
X-WR-CALDESC:Dogodki za Glasbena šola Murska Sobota
REFRESH-INTERVAL;VALUE=DURATION:PT1H
X-Robots-Tag:noindex
X-PUBLISHED-TTL:PT1H
BEGIN:VTIMEZONE
TZID:Europe/Ljubljana
BEGIN:DAYLIGHT
TZOFFSETFROM:+0100
TZOFFSETTO:+0200
TZNAME:CEST
DTSTART:20220327T010000
END:DAYLIGHT
BEGIN:STANDARD
TZOFFSETFROM:+0200
TZOFFSETTO:+0100
TZNAME:CET
DTSTART:20221030T010000
END:STANDARD
BEGIN:DAYLIGHT
TZOFFSETFROM:+0100
TZOFFSETTO:+0200
TZNAME:CEST
DTSTART:20230326T010000
END:DAYLIGHT
BEGIN:STANDARD
TZOFFSETFROM:+0200
TZOFFSETTO:+0100
TZNAME:CET
DTSTART:20231029T010000
END:STANDARD
BEGIN:DAYLIGHT
TZOFFSETFROM:+0100
TZOFFSETTO:+0200
TZNAME:CEST
DTSTART:20240331T010000
END:DAYLIGHT
BEGIN:STANDARD
TZOFFSETFROM:+0200
TZOFFSETTO:+0100
TZNAME:CET
DTSTART:20241027T010000
END:STANDARD
END:VTIMEZONE
BEGIN:VEVENT
DTSTART;VALUE=DATE:20230415
DTEND;VALUE=DATE:20230416
DTSTAMP:20260422T165427
CREATED:20220912T082338Z
LAST-MODIFIED:20220912T082338Z
UID:4993-1681516800-1681603199@gsms.si
SUMMARY:10. Srečanje kitarskih orkestrov in ansamblov Slovenije
DESCRIPTION:
URL:https://gsms.si/dogodek/10-srecanje-kitarskih-orkestrov-in-ansamblov-slovenije/
LOCATION:Glasbena šola Risto Savin Žalec\, Aškerčeva 9\, Žalec\, 3310\, Slovenija
END:VEVENT
BEGIN:VEVENT
DTSTART;TZID=Europe/Ljubljana:20230123T163000
DTEND;TZID=Europe/Ljubljana:20230123T173000
DTSTAMP:20260422T165427
CREATED:20221025T110342Z
LAST-MODIFIED:20221214T125803Z
UID:5110-1674491400-1674495000@gsms.si
SUMMARY:Koncert violinistov glasbenih šol Žalec in Murska Sobota
DESCRIPTION:
URL:https://gsms.si/dogodek/koncert-violinistov-glasbenih-sol-zalec-in-murska-sobota/
LOCATION:Glasbena šola Risto Savin Žalec\, Aškerčeva 9\, Žalec\, 3310\, Slovenija
END:VEVENT
END:VCALENDAR