BEGIN:VCALENDAR
VERSION:2.0
PRODID:-//Glasbena šola Murska Sobota - ECPv6.15.20//NONSGML v1.0//EN
CALSCALE:GREGORIAN
METHOD:PUBLISH
X-ORIGINAL-URL:https://gsms.si
X-WR-CALDESC:Dogodki za Glasbena šola Murska Sobota
REFRESH-INTERVAL;VALUE=DURATION:PT1H
X-Robots-Tag:noindex
X-PUBLISHED-TTL:PT1H
BEGIN:VTIMEZONE
TZID:Europe/Ljubljana
BEGIN:DAYLIGHT
TZOFFSETFROM:+0100
TZOFFSETTO:+0200
TZNAME:CEST
DTSTART:20230326T010000
END:DAYLIGHT
BEGIN:STANDARD
TZOFFSETFROM:+0200
TZOFFSETTO:+0100
TZNAME:CET
DTSTART:20231029T010000
END:STANDARD
BEGIN:DAYLIGHT
TZOFFSETFROM:+0100
TZOFFSETTO:+0200
TZNAME:CEST
DTSTART:20240331T010000
END:DAYLIGHT
BEGIN:STANDARD
TZOFFSETFROM:+0200
TZOFFSETTO:+0100
TZNAME:CET
DTSTART:20241027T010000
END:STANDARD
BEGIN:DAYLIGHT
TZOFFSETFROM:+0100
TZOFFSETTO:+0200
TZNAME:CEST
DTSTART:20250330T010000
END:DAYLIGHT
BEGIN:STANDARD
TZOFFSETFROM:+0200
TZOFFSETTO:+0100
TZNAME:CET
DTSTART:20251026T010000
END:STANDARD
END:VTIMEZONE
BEGIN:VEVENT
DTSTART;VALUE=DATE:20240607
DTEND;VALUE=DATE:20240608
DTSTAMP:20260423T102649
CREATED:20231106T071140Z
LAST-MODIFIED:20231106T071140Z
UID:6341-1717718400-1717804799@gsms.si
SUMMARY:13. revija tolkalnih skupin
DESCRIPTION:
URL:https://gsms.si/dogodek/13-revija-tolkalnih-skupin/
LOCATION:Celje
END:VEVENT
BEGIN:VEVENT
DTSTART;TZID=Europe/Ljubljana:20240606T180000
DTEND;TZID=Europe/Ljubljana:20240606T190000
DTSTAMP:20260423T102649
CREATED:20230911T072323Z
LAST-MODIFIED:20230911T072323Z
UID:6228-1717696800-1717700400@gsms.si
SUMMARY:Nastop učencev
DESCRIPTION:
URL:https://gsms.si/dogodek/nastop-ucencev-79/
LOCATION:Dvorana Glasbene šole Murska Sobota\, Cvetkova 2c\, Murska Sobota\, 9000\, Slovenija
END:VEVENT
BEGIN:VEVENT
DTSTART;TZID=Europe/Ljubljana:20240606T180000
DTEND;TZID=Europe/Ljubljana:20240606T190000
DTSTAMP:20260423T102649
CREATED:20230908T094908Z
LAST-MODIFIED:20230908T095041Z
UID:6143-1717696800-1717700400@gsms.si
SUMMARY:Zaključni koncert učencev Podružnične GŠ Sv. Jurij
DESCRIPTION:
URL:https://gsms.si/dogodek/zakljucni-koncert-ucencev-podruznicne-gs-sv-jurij-2/
LOCATION:grad pri Gradu na Goričkem\, Grad 191\, Grad\, 9264\, Slovenija
END:VEVENT
BEGIN:VEVENT
DTSTART;TZID=Europe/Ljubljana:20240606T160000
DTEND;TZID=Europe/Ljubljana:20240606T170000
DTSTAMP:20260423T102649
CREATED:20240425T061509Z
LAST-MODIFIED:20240425T061509Z
UID:7160-1717689600-1717693200@gsms.si
SUMMARY:Razredni nastop učencev Danijela Matkovića in Julijana Škrabana
DESCRIPTION:
URL:https://gsms.si/dogodek/razredni-nastop-ucencev-danijela-matkovica-in-julijana-skrabana-2/
LOCATION:Dvorana Glasbene šole Murska Sobota\, Cvetkova 2c\, Murska Sobota\, 9000\, Slovenija
END:VEVENT
BEGIN:VEVENT
DTSTART;TZID=Europe/Ljubljana:20240605T183000
DTEND;TZID=Europe/Ljubljana:20240605T193000
DTSTAMP:20260423T102649
CREATED:20240506T075914Z
LAST-MODIFIED:20240506T075914Z
UID:7169-1717612200-1717615800@gsms.si
SUMMARY:Razredni nastop učencev Željka Ritlopa
DESCRIPTION:
URL:https://gsms.si/dogodek/razredni-nastop-ucencev-zeljka-ritlopa-5/
LOCATION:Dvorana Glasbene šole Murska Sobota\, Cvetkova 2c\, Murska Sobota\, 9000\, Slovenija
END:VEVENT
BEGIN:VEVENT
DTSTART;TZID=Europe/Ljubljana:20240604T183000
DTEND;TZID=Europe/Ljubljana:20240604T193000
DTSTAMP:20260423T102649
CREATED:20230904T072106Z
LAST-MODIFIED:20240510T075645Z
UID:6065-1717525800-1717529400@gsms.si
SUMMARY:Razredni nastop učencev Laure Sečkar
DESCRIPTION:
URL:https://gsms.si/dogodek/razredni-nastop-ucencev-laure-seckar-2/
LOCATION:Dvorana Glasbene šole Murska Sobota\, Cvetkova 2c\, Murska Sobota\, 9000\, Slovenija
END:VEVENT
BEGIN:VEVENT
DTSTART;TZID=Europe/Ljubljana:20240604T170000
DTEND;TZID=Europe/Ljubljana:20240604T180000
DTSTAMP:20260423T102649
CREATED:20240213T105129Z
LAST-MODIFIED:20240213T105129Z
UID:6547-1717520400-1717524000@gsms.si
SUMMARY:Razredni nastop učencev Polone Lekić
DESCRIPTION:
URL:https://gsms.si/dogodek/razredni-nastop-ucencev-polone-lekic-6/
LOCATION:Dvorana Glasbene šole Murska Sobota\, Cvetkova 2c\, Murska Sobota\, 9000\, Slovenija
END:VEVENT
BEGIN:VEVENT
DTSTART;TZID=Europe/Ljubljana:20240603T190000
DTEND;TZID=Europe/Ljubljana:20240603T200000
DTSTAMP:20260423T102649
CREATED:20240416T101715Z
LAST-MODIFIED:20240418T125556Z
UID:7115-1717441200-1717444800@gsms.si
SUMMARY:Razredni nastop učencev Lazarja Čolovića
DESCRIPTION:
URL:https://gsms.si/dogodek/razredni-nastop-ucencev-lazarja-colovica-6/
LOCATION:Dvorana Glasbene šole Murska Sobota\, Cvetkova 2c\, Murska Sobota\, 9000\, Slovenija
END:VEVENT
BEGIN:VEVENT
DTSTART;TZID=Europe/Ljubljana:20240603T163000
DTEND;TZID=Europe/Ljubljana:20240603T173000
DTSTAMP:20260423T102649
CREATED:20240327T145148Z
LAST-MODIFIED:20240425T110705Z
UID:7062-1717432200-1717435800@gsms.si
SUMMARY:Razredni nastop učencev Yuliye Mergeduš in Žane Sobočan
DESCRIPTION:
URL:https://gsms.si/dogodek/razredni-nastop-ucencev-yuliye-mergedus-3/
LOCATION:Dvorana Glasbene šole Murska Sobota\, Cvetkova 2c\, Murska Sobota\, 9000\, Slovenija
END:VEVENT
BEGIN:VEVENT
DTSTART;TZID=Europe/Ljubljana:20240531T183000
DTEND;TZID=Europe/Ljubljana:20240531T193000
DTSTAMP:20260423T102649
CREATED:20240418T112420Z
LAST-MODIFIED:20240517T125905Z
UID:7125-1717180200-1717183800@gsms.si
SUMMARY:Klavirski recital Hane Taškov
DESCRIPTION:
URL:https://gsms.si/dogodek/klavirski-recital-hane-taskov/
LOCATION:Dvorana Glasbene šole Murska Sobota\, Cvetkova 2c\, Murska Sobota\, 9000\, Slovenija
END:VEVENT
BEGIN:VEVENT
DTSTART;TZID=Europe/Ljubljana:20240531T170000
DTEND;TZID=Europe/Ljubljana:20240531T180000
DTSTAMP:20260423T102649
CREATED:20230911T063316Z
LAST-MODIFIED:20230911T063316Z
UID:6161-1717174800-1717178400@gsms.si
SUMMARY:Promenadni koncert
DESCRIPTION:
URL:https://gsms.si/dogodek/promenadni-koncert-2/
LOCATION:Gledališka in koncertna dvorana\, Trg Györgya Zale 1\, Lendava\, 9220\, Slovenija
END:VEVENT
BEGIN:VEVENT
DTSTART;TZID=Europe/Ljubljana:20240530T180000
DTEND;TZID=Europe/Ljubljana:20240530T190000
DTSTAMP:20260423T102649
CREATED:20230911T072226Z
LAST-MODIFIED:20230911T072226Z
UID:6226-1717092000-1717095600@gsms.si
SUMMARY:Nastop učencev
DESCRIPTION:
URL:https://gsms.si/dogodek/nastop-ucencev-78/
LOCATION:Dvorana Glasbene šole Murska Sobota\, Cvetkova 2c\, Murska Sobota\, 9000\, Slovenija
END:VEVENT
BEGIN:VEVENT
DTSTART;TZID=Europe/Ljubljana:20240528T160000
DTEND;TZID=Europe/Ljubljana:20240528T190000
DTSTAMP:20260423T102649
CREATED:20230904T072441Z
LAST-MODIFIED:20230904T072441Z
UID:6075-1716912000-1716922800@gsms.si
SUMMARY:Preizkus glasbene nadarjenosti
DESCRIPTION:
URL:https://gsms.si/dogodek/preizkus-glasbene-nadarjenosti-11/
LOCATION:Dvorana Glasbene šole Murska Sobota\, Cvetkova 2c\, Murska Sobota\, 9000\, Slovenija
END:VEVENT
BEGIN:VEVENT
DTSTART;TZID=Europe/Ljubljana:20240528T160000
DTEND;TZID=Europe/Ljubljana:20240528T180000
DTSTAMP:20260423T102649
CREATED:20230904T072515Z
LAST-MODIFIED:20230904T072515Z
UID:6077-1716912000-1716919200@gsms.si
SUMMARY:Preizkus glasbene nadarjenosti
DESCRIPTION:
URL:https://gsms.si/dogodek/preizkus-glasbene-nadarjenosti-12/
LOCATION:OŠ Sv. Jurij\, OŠ Puconci in OŠ Tišina
END:VEVENT
BEGIN:VEVENT
DTSTART;TZID=Europe/Ljubljana:20240527T160000
DTEND;TZID=Europe/Ljubljana:20240527T190000
DTSTAMP:20260423T102649
CREATED:20230904T072410Z
LAST-MODIFIED:20230904T072410Z
UID:6073-1716825600-1716836400@gsms.si
SUMMARY:Preizkus glasbene nadarjenosti
DESCRIPTION:
URL:https://gsms.si/dogodek/preizkus-glasbene-nadarjenosti-10/
LOCATION:Dvorana Glasbene šole Murska Sobota\, Cvetkova 2c\, Murska Sobota\, 9000\, Slovenija
END:VEVENT
BEGIN:VEVENT
DTSTART;TZID=Europe/Ljubljana:20240523T180000
DTEND;TZID=Europe/Ljubljana:20240523T190000
DTSTAMP:20260423T102649
CREATED:20230904T072323Z
LAST-MODIFIED:20230904T072323Z
UID:6071-1716487200-1716490800@gsms.si
SUMMARY:Koncert zborov in orkestrov
DESCRIPTION:
URL:https://gsms.si/dogodek/koncert-zborov-in-orkestrov-3/
LOCATION:Grajska ploščad Murska Sobota\, Trubarjev drevored 1\, Murska Sobota\, 9000\, Slovenija
END:VEVENT
BEGIN:VEVENT
DTSTART;TZID=Europe/Ljubljana:20240522T180000
DTEND;TZID=Europe/Ljubljana:20240522T190000
DTSTAMP:20260423T102649
CREATED:20240418T112700Z
LAST-MODIFIED:20240418T112700Z
UID:7127-1716400800-1716404400@gsms.si
SUMMARY:Nastop učencev
DESCRIPTION:
URL:https://gsms.si/dogodek/nastop-ucencev-62/
LOCATION:Dvorana Glasbene šole Murska Sobota\, Cvetkova 2c\, Murska Sobota\, 9000\, Slovenija
END:VEVENT
BEGIN:VEVENT
DTSTART;TZID=Europe/Ljubljana:20240521T180000
DTEND;TZID=Europe/Ljubljana:20240521T190000
DTSTAMP:20260423T102649
CREATED:20240425T060251Z
LAST-MODIFIED:20240509T064555Z
UID:7157-1716314400-1716318000@gsms.si
SUMMARY:Razredni nastop učencev Saša Fekonje
DESCRIPTION:
URL:https://gsms.si/dogodek/razredni-nastop-ucencev-sasa-fekonje-7/
LOCATION:Dvorana Glasbene šole Murska Sobota\, Cvetkova 2c\, Murska Sobota\, 9000\, Slovenija
END:VEVENT
BEGIN:VEVENT
DTSTART;TZID=Europe/Ljubljana:20240521T160000
DTEND;TZID=Europe/Ljubljana:20240521T170000
DTSTAMP:20260423T102649
CREATED:20240507T125637Z
LAST-MODIFIED:20240509T064527Z
UID:7182-1716307200-1716310800@gsms.si
SUMMARY:Razredni nastop učencev Predraga Šanteka
DESCRIPTION:
URL:https://gsms.si/dogodek/razredni-nastop-ucencev-predraga-santeka-5/
LOCATION:Dvorana Glasbene šole Murska Sobota\, Cvetkova 2c\, Murska Sobota\, 9000\, Slovenija
END:VEVENT
BEGIN:VEVENT
DTSTART;TZID=Europe/Ljubljana:20240521T100000
DTEND;TZID=Europe/Ljubljana:20240521T103000
DTSTAMP:20260423T102649
CREATED:20240509T064422Z
LAST-MODIFIED:20240509T064422Z
UID:7191-1716285600-1716287400@gsms.si
SUMMARY:Predstavitev GŠ MS vrtčevskim otrokom
DESCRIPTION:
URL:https://gsms.si/dogodek/predstavitev-gs-ms-vrtcevskim-otrokom-2/
LOCATION:Dvorana Glasbene šole Murska Sobota\, Cvetkova 2c\, Murska Sobota\, 9000\, Slovenija
END:VEVENT
BEGIN:VEVENT
DTSTART;TZID=Europe/Ljubljana:20240521T090000
DTEND;TZID=Europe/Ljubljana:20240521T093000
DTSTAMP:20260423T102649
CREATED:20240509T064358Z
LAST-MODIFIED:20240509T064358Z
UID:7189-1716282000-1716283800@gsms.si
SUMMARY:Predstavitev GŠ MS vrtčevskim otrokom
DESCRIPTION:
URL:https://gsms.si/dogodek/predstavitev-gs-ms-vrtcevskim-otrokom/
LOCATION:Dvorana Glasbene šole Murska Sobota\, Cvetkova 2c\, Murska Sobota\, 9000\, Slovenija
END:VEVENT
BEGIN:VEVENT
DTSTART;TZID=Europe/Ljubljana:20240516T180000
DTEND;TZID=Europe/Ljubljana:20240516T190000
DTSTAMP:20260423T102649
CREATED:20230911T072153Z
LAST-MODIFIED:20230911T072153Z
UID:6224-1715882400-1715886000@gsms.si
SUMMARY:Nastop učencev
DESCRIPTION:
URL:https://gsms.si/dogodek/nastop-ucencev-77/
LOCATION:Dvorana Glasbene šole Murska Sobota\, Cvetkova 2c\, Murska Sobota\, 9000\, Slovenija
END:VEVENT
BEGIN:VEVENT
DTSTART;TZID=Europe/Ljubljana:20240515T170000
DTEND;TZID=Europe/Ljubljana:20240515T173000
DTSTAMP:20260423T102649
CREATED:20230904T073311Z
LAST-MODIFIED:20230904T073311Z
UID:6083-1715792400-1715794200@gsms.si
SUMMARY:Dan odprtih vrat Glasbene šole Murska Sobota (nastop za starše in otroke)
DESCRIPTION:
URL:https://gsms.si/dogodek/dan-odprtih-vrat-glasbene-sole-murska-sobota-nastop-za-starse-in-otroke/
LOCATION:Dvorana Glasbene šole Murska Sobota\, Cvetkova 2c\, Murska Sobota\, 9000\, Slovenija
END:VEVENT
BEGIN:VEVENT
DTSTART;TZID=Europe/Ljubljana:20240514T100000
DTEND;TZID=Europe/Ljubljana:20240514T104500
DTSTAMP:20260423T102649
CREATED:20240412T085953Z
LAST-MODIFIED:20240412T085953Z
UID:7098-1715680800-1715683500@gsms.si
SUMMARY:Predstavitev GŠ MS učencem osnovnih šol
DESCRIPTION:
URL:https://gsms.si/dogodek/predstavitev-gs-ms-ucencem-osnovnih-sol-4/
LOCATION:Dvorana Glasbene šole Murska Sobota\, Cvetkova 2c\, Murska Sobota\, 9000\, Slovenija
END:VEVENT
BEGIN:VEVENT
DTSTART;TZID=Europe/Ljubljana:20240514T090000
DTEND;TZID=Europe/Ljubljana:20240514T094500
DTSTAMP:20260423T102649
CREATED:20240412T085927Z
LAST-MODIFIED:20240412T085927Z
UID:7096-1715677200-1715679900@gsms.si
SUMMARY:Predstavitev GŠ MS učencem osnovnih šol
DESCRIPTION:
URL:https://gsms.si/dogodek/predstavitev-gs-ms-ucencem-osnovnih-sol-3/
LOCATION:Dvorana Glasbene šole Murska Sobota\, Cvetkova 2c\, Murska Sobota\, 9000\, Slovenija
END:VEVENT
BEGIN:VEVENT
DTSTART;TZID=Europe/Ljubljana:20240513T100000
DTEND;TZID=Europe/Ljubljana:20240513T104500
DTSTAMP:20260423T102649
CREATED:20240412T085903Z
LAST-MODIFIED:20240412T085903Z
UID:7094-1715594400-1715597100@gsms.si
SUMMARY:Predstavitev GŠ MS učencem osnovnih šol
DESCRIPTION:
URL:https://gsms.si/dogodek/predstavitev-gs-ms-ucencem-osnovnih-sol-2/
LOCATION:Dvorana Glasbene šole Murska Sobota\, Cvetkova 2c\, Murska Sobota\, 9000\, Slovenija
END:VEVENT
BEGIN:VEVENT
DTSTART;TZID=Europe/Ljubljana:20240513T090000
DTEND;TZID=Europe/Ljubljana:20240513T094500
DTSTAMP:20260423T102649
CREATED:20240412T085834Z
LAST-MODIFIED:20240412T085834Z
UID:7092-1715590800-1715593500@gsms.si
SUMMARY:Predstavitev GŠ MS učencem osnovnih šol
DESCRIPTION:
URL:https://gsms.si/dogodek/predstavitev-gs-ms-ucencem-osnovnih-sol/
LOCATION:Dvorana Glasbene šole Murska Sobota\, Cvetkova 2c\, Murska Sobota\, 9000\, Slovenija
END:VEVENT
BEGIN:VEVENT
DTSTART;VALUE=DATE:20240512
DTEND;VALUE=DATE:20240513
DTSTAMP:20260423T102649
CREATED:20230912T100612Z
LAST-MODIFIED:20230912T100644Z
UID:6265-1715472000-1715558399@gsms.si
SUMMARY:Intenzivne vaje harmonikarskega orkestra
DESCRIPTION:
URL:https://gsms.si/dogodek/intenzivne-vaje-harmonikarskega-orkestra-2/
LOCATION:Dvorana Glasbene šole Murska Sobota\, Cvetkova 2c\, Murska Sobota\, 9000\, Slovenija
END:VEVENT
BEGIN:VEVENT
DTSTART;VALUE=DATE:20240511
DTEND;VALUE=DATE:20240512
DTSTAMP:20260423T102649
CREATED:20230912T100548Z
LAST-MODIFIED:20230912T100548Z
UID:6263-1715385600-1715471999@gsms.si
SUMMARY:Intenzivne vaje harmonikarskega orkestra
DESCRIPTION:
URL:https://gsms.si/dogodek/intenzivne-vaje-harmonikarskega-orkestra/
LOCATION:Dvorana Glasbene šole Murska Sobota\, Cvetkova 2c\, Murska Sobota\, 9000\, Slovenija
END:VEVENT
BEGIN:VEVENT
DTSTART;TZID=Europe/Ljubljana:20240510T170000
DTEND;TZID=Europe/Ljubljana:20240510T180000
DTSTAMP:20260423T102649
CREATED:20240207T134704Z
LAST-MODIFIED:20240207T134704Z
UID:6529-1715360400-1715364000@gsms.si
SUMMARY:Razredni nastop učencev Danaje Habjanič
DESCRIPTION:
URL:https://gsms.si/dogodek/razredni-nastop-ucencev-danaje-habjanic-6/
LOCATION:Dvorana Glasbene šole Murska Sobota\, Cvetkova 2c\, Murska Sobota\, 9000\, Slovenija
END:VEVENT
END:VCALENDAR